BEGIN:VCALENDAR
VERSION:2.0
PRODID:-//wp-events-plugin.com//7.2.3.1//EN
BEGIN:VEVENT
UID:571@kunterbunt.fr
DTSTART;TZID=Europe/Paris:20260626T190000
DTEND;TZID=Europe/Paris:20260626T220000
DTSTAMP:20260103T203848Z
URL:https://kunterbunt.fr/events/stammtisch-12/
SUMMARY:Stammtisch
DESCRIPTION:\n\nKunterbunt Stammtisch.\n\nOrt/Lieu :à déterminer\n
CATEGORIES:Stammtisch
END:VEVENT
BEGIN:VTIMEZONE
TZID:Europe/Paris
X-LIC-LOCATION:Europe/Paris
BEGIN:DAYLIGHT
DTSTART:20260329T030000
TZOFFSETFROM:+0100
TZOFFSETTO:+0200
TZNAME:CEST
END:DAYLIGHT
END:VTIMEZONE
END:VCALENDAR